BEGIN:VCALENDAR
VERSION:2.0
PRODID:-//TYPO3/NONSGML Calendarize//EN
BEGIN:VEVENT
UID:calendarize-paedagogischer-tag-unterrichtsfrei
DTSTAMP:20250224T205008Z
DTSTART;VALUE=DATE:20250404
DTEND;VALUE=DATE:20250405
SUMMARY:Pädagogischer Tag (unterrichtsfrei) 
DESCRIPTION: \n
X-ALT-DESC;FMTTYPE=text/html: \n
LOCATION:
END:VEVENT
END:VCALENDAR
