BEGIN:VCALENDAR
VERSION:2.0
PRODID:-//TYPO3/NONSGML Calendarize//EN
BEGIN:VEVENT
UID:calendarize-workshop-suchtpraevention
DTSTAMP:20260312T145215Z
DTSTART:20260316T090000Z
DTEND:20260316T120000Z
SUMMARY:Workshop Suchtprävention
DESCRIPTION: \n
X-ALT-DESC;FMTTYPE=text/html: \n
LOCATION:
END:VEVENT
END:VCALENDAR
