BEGIN:VCALENDAR
VERSION:2.0
PRODID:-//TYPO3/NONSGML Calendarize//EN
BEGIN:VEVENT
UID:calendarize-winterball-der-10-klassen
DTSTAMP:20260126T135715Z
DTSTART:20260228T170000Z
DTEND:20260228T210000Z
SUMMARY:Winterball der 10. Klassen
DESCRIPTION: \n
X-ALT-DESC;FMTTYPE=text/html: \n
LOCATION:Franziskusbau
END:VEVENT
END:VCALENDAR
