BEGIN:VCALENDAR
VERSION:2.0
PRODID:-//TYPO3/NONSGML Calendarize//EN
BEGIN:VEVENT
UID:calendarize-weihnachtsferien-in-hessen-1
DTSTAMP:20251217T123538Z
DTSTART;VALUE=DATE:20251222
DTEND;VALUE=DATE:20260110
SUMMARY:Weihnachtsferien in Hessen
DESCRIPTION: \n
X-ALT-DESC;FMTTYPE=text/html: \n
LOCATION:
END:VEVENT
END:VCALENDAR
