BEGIN:VCALENDAR
VERSION:2.0
PRODID:-//TYPO3/NONSGML Calendarize//EN
BEGIN:VEVENT
UID:calendarize-vortrag-zu-kaspar-hauser-1
DTSTAMP:20251110T151548Z
DTSTART:20251029T190000Z
DTEND:20251029T203000Z
SUMMARY:Vortrag zu Kaspar Hauser
DESCRIPTION:Veranstalter ist der anthroposophische Zweig Loheland\n \n
X-ALT-DESC;FMTTYPE=text/html:Veranstalter ist der anthroposophische Zweig 
 Loheland\n \n
LOCATION:Schulhaus III\, Musiksaal
END:VEVENT
END:VCALENDAR
