BEGIN:VCALENDAR
VERSION:2.0
PRODID:-//TYPO3/NONSGML Calendarize//EN
BEGIN:VEVENT
UID:calendarize-vortrag-wir-sind-waldis
DTSTAMP:20251027T174323Z
DTSTART:20251028T190000Z
DTEND:20251028T203000Z
SUMMARY:Vortrag "Wir sind Waldis"
DESCRIPTION:Wir sind Waldis - Zwischen Stolz und Vorurteilen\nEin interakt
 iver Abend mit Waldorf-Absolventen findet am Dienstag\, 28.10.2025\, um 20
  Uhr im Musiksaal der Rudolf-Steiner-Schule Loheland statt. Dauer ca. 90 M
 inuten\, der Eintritt ist frei.\nWaldorfschulen stehen seit Corona massiv 
 in der Kritik. Es herrscht Rechtfertigungsdruck\, ständig tragen sie ein 
 “Ja\, aber…” auf den Lippen. Aus Sorge diskutieren manche Waldorfsch
 ulen bereits\, inwieweit sie sich von Rudolf Steiners Anthroposophie löse
 n können.\nAnlässlich von Rudolf Steiners 100. Todestag sprechen Benjami
 n Brockhaus und Börries Hornemann über seine Biographie\, die Relevanz d
 er waldorfpädagogischen Ideen und wie die Waldorfbewegung sich heute öff
 entlich zur Anthroposophie positionieren kann.\n \nBenjamin Brockhaus\, *1
 986\, Freie Waldorfschule Kassel mit Abitur und Elektronikerausbildung. St
 udierte Umweltwissenschaften & Nachhaltigkeitsökonomie\, gründete mehrer
 e Vereine und Netzwerke\, zuletzt das Zukunftsdorf Sonnerden. Lebt heute a
 m Bodensee und arbeitet als Projektentwickler und Seminarleiter u.a. im Be
 reich “Bildung für Nachhaltige Entwicklung” und „Verletzlichkeit al
 s Ressource“.\nBörries Hornemann\, *1983\, Freie Waldorfschule Am Kräh
 erwald (Stuttgart). Er studierte Erziehungswissenschaft\, Geographie und P
 hilosophie in Bochum und Witten. Tätig als Philosoph\, Unternehmer\, Jour
 nalist und Mitgründer des Forschungsnetzwerks Neopolis. 2016 Organisation
  der Kampagne für das bedingungslose Grundeinkommen in der Schweiz & Publ
 ikation des Buches „Sozialrevolution!“. Arbeitet heute als Autor\, Cam
 paigner und Lobbyist. Vater von 3 Kindern.\n \n
X-ALT-DESC;FMTTYPE=text/html:Wir sind Waldis - Zwischen Stolz und Vorurtei
 len\nEin interaktiver Abend mit Waldorf-Absolventen findet am Dienstag\, 2
 8.10.2025\, um 20 Uhr im Musiksaal der Rudolf-Steiner-Schule Loheland stat
 t. Dauer ca. 90 Minuten\, der Eintritt ist frei.\nWaldorfschulen stehen se
 it Corona massiv in der Kritik. Es herrscht Rechtfertigungsdruck\, ständi
 g tragen sie ein “Ja\, aber…” auf den Lippen. Aus Sorge diskutieren 
 manche Waldorfschulen bereits\, inwieweit sie sich von Rudolf Steiners Ant
 hroposophie lösen können.\nAnlässlich von Rudolf Steiners 100. Todestag
  sprechen Benjamin Brockhaus und Börries Hornemann über seine Biographie
 \, die Relevanz der waldorfpädagogischen Ideen und wie die Waldorfbewegun
 g sich heute öffentlich zur Anthroposophie positionieren kann.\n \nBenjam
 in Brockhaus\, *1986\, Freie Waldorfschule Kassel mit Abitur und Elektroni
 kerausbildung. Studierte Umweltwissenschaften & Nachhaltigkeitsökonomie\,
  gründete mehrere Vereine und Netzwerke\, zuletzt das Zukunftsdorf Sonner
 den. Lebt heute am Bodensee und arbeitet als Projektentwickler und Seminar
 leiter u.a. im Bereich “Bildung für Nachhaltige Entwicklung” und „V
 erletzlichkeit als Ressource“.\nBörries Hornemann\, *1983\, Freie Waldo
 rfschule Am Kräherwald (Stuttgart). Er studierte Erziehungswissenschaft\,
  Geographie und Philosophie in Bochum und Witten. Tätig als Philosoph\, U
 nternehmer\, Journalist und Mitgründer des Forschungsnetzwerks Neopolis. 
 2016 Organisation der Kampagne für das bedingungslose Grundeinkommen in d
 er Schweiz & Publikation des Buches „Sozialrevolution!“. Arbeitet heut
 e als Autor\, Campaigner und Lobbyist. Vater von 3 Kindern.\n \n
LOCATION:Schulhaus III\, Musiksaal
END:VEVENT
END:VCALENDAR
