BEGIN:VCALENDAR
VERSION:2.0
PRODID:-//TYPO3/NONSGML Calendarize//EN
BEGIN:VEVENT
UID:calendarize-vortrag-von-helmy-abouleish-auftakt-ins-jubilaeumsjahr-100
 -jahre-biodynamischer-anbau-in-loheland
DTSTAMP:20260122T174025Z
DTSTART:20260210T143000Z
DTEND:20260210T200000Z
SUMMARY:Vortrag von Helmy Abouleish - Auftakt ins Jubiläumsjahr "100 Jahr
 e biodynamischer Anbau in Loheland"
DESCRIPTION:Programmüberblick\nDienstag\, 10. Februar 2026\n \nZeit\nProg
 rammpunkt\n15:30 Uhr\nFührung durch Hof und Garten Loheland\nEinblicke in
  die pädagogisch-praktische Arbeit mit dem Schwerpunkt Handlungspädagogi
 k\n17:00 Uhr\nKaffeepause\n18:00 Uhr\nVortrag von Helmy Abouleish (SEKEM\,
  Ägypten)\n„Biodynamische Landwirtschaft – eine Entwicklungsaufgabe f
 ür den Menschen“\, Begrüßung durch den Vorstand der Loheland-Stiftung
 \n19:00 Uhr\nImbiss\n19:30 Uhr\nPodiumsdiskussion mit Gästen aus Landwirt
 schaft\, Bildung und Forschung\n21:00 Uhr\nAusklang\n \nFür unsere Übern
 achtungsgäste bieten wir am Mittwoch\, den 11. Februar an:\nZeit\nAngebot
 \n9:00–10:00 Uhr\nHofunterricht erleben\nmit Hannah von Bredow (Bereichs
 leiterin Hof Loheland)\n11:00 Uhr\nFührung durch die Ausstellung im Vonde
 rau Museum Fulda\n„TOMATE und MOND. Fotodokumentation des biodynamischen
  Anbaus in Loheland vor 100 Jahren“\nmit Anett Matl (Archivarin der Lohe
 land-Stiftung)\n \nÄnderungen vorbehalten\n \n
X-ALT-DESC;FMTTYPE=text/html:Programmüberblick\nDienstag\, 10. Februar 20
 26\n \nZeit\nProgrammpunkt\n15:30 Uhr\nFührung durch Hof und Garten Lohel
 and\nEinblicke in die pädagogisch-praktische Arbeit mit dem Schwerpunkt H
 andlungspädagogik\n17:00 Uhr\nKaffeepause\n18:00 Uhr\nVortrag von Helmy A
 bouleish (SEKEM\, Ägypten)\n„Biodynamische Landwirtschaft – eine Entw
 icklungsaufgabe für den Menschen“\, Begrüßung durch den Vorstand der 
 Loheland-Stiftung\n19:00 Uhr\nImbiss\n19:30 Uhr\nPodiumsdiskussion mit Gä
 sten aus Landwirtschaft\, Bildung und Forschung\n21:00 Uhr\nAusklang\n \nF
 ür unsere Übernachtungsgäste bieten wir am Mittwoch\, den 11. Februar a
 n:\nZeit\nAngebot\n9:00–10:00 Uhr\nHofunterricht erleben\nmit Hannah von
  Bredow (Bereichsleiterin Hof Loheland)\n11:00 Uhr\nFührung durch die Aus
 stellung im Vonderau Museum Fulda\n„TOMATE und MOND. Fotodokumentation d
 es biodynamischen Anbaus in Loheland vor 100 Jahren“\nmit Anett Matl (Ar
 chivarin der Loheland-Stiftung)\n \nÄnderungen vorbehalten\n \n
LOCATION:Wiesenhaus\, Wiesenhaussaal
END:VEVENT
END:VCALENDAR
