BEGIN:VCALENDAR
VERSION:2.0
PRODID:-//TYPO3/NONSGML Calendarize//EN
BEGIN:VEVENT
UID:calendarize-vernissage-zur-ausstellung-tomate-und-mond
DTSTAMP:20260122T174025Z
DTSTART:20260304T180000Z
DTEND:20260304T200000Z
SUMMARY:Vernissage zur Ausstellung "Tomate und Mond"
DESCRIPTION:Studioausstellung im Vonderau Museum in Fulda vom 4. Februar b
 is 12. April 2026\n \n„TOMATE und MOND. Fotodokumentation des biodynamis
 chen Anbaus in der Frauensiedlung Loheland vor 100 Jahren.“\n
X-ALT-DESC;FMTTYPE=text/html:Studioausstellung im Vonderau Museum in Fulda
  vom 4. Februar bis 12. April 2026\n \n„TOMATE und MOND. Fotodokumentati
 on des biodynamischen Anbaus in der Frauensiedlung Loheland vor 100 Jahren
 .“\n
LOCATION:Vonderau Museum Fulda
END:VEVENT
END:VCALENDAR
