BEGIN:VCALENDAR
VERSION:2.0
PRODID:-//TYPO3/NONSGML Calendarize//EN
BEGIN:VEVENT
UID:calendarize-uebergabe-urkunden-an-schulsanitaeterinnen-1
DTSTAMP:20251110T151548Z
DTSTART:20250526T070000Z
DTEND:20250526T080000Z
SUMMARY:Übergabe Urkunden an Schulsanitäter:innen
DESCRIPTION: \n
X-ALT-DESC;FMTTYPE=text/html: \n
LOCATION:Musiksaal
END:VEVENT
END:VCALENDAR
