BEGIN:VCALENDAR
VERSION:2.0
PRODID:-//TYPO3/NONSGML Calendarize//EN
BEGIN:VEVENT
UID:calendarize-treffen-der-klassenlehrerinnen-der-jahrgangsstufen-1-bis-8
DTSTAMP:20250715T123712Z
DTSTART:20250815T063000Z
DTEND:20250815T113000Z
SUMMARY:Treffen der Klassenlehrer*innen der Jahrgangsstufen 1 bis 8
DESCRIPTION: \n
X-ALT-DESC;FMTTYPE=text/html: \n
LOCATION:Wiesenhaus
END:VEVENT
END:VCALENDAR
