BEGIN:VCALENDAR
VERSION:2.0
PRODID:-//TYPO3/NONSGML Calendarize//EN
BEGIN:VEVENT
UID:calendarize-treffen-aller-kolleginnen
DTSTAMP:20250715T123712Z
DTSTART:20250815T113000Z
DTEND:20250815T143000Z
SUMMARY:Treffen aller Kolleg:innen
DESCRIPTION: \n
X-ALT-DESC;FMTTYPE=text/html: \n
LOCATION:Wiesenhaus
END:VEVENT
END:VCALENDAR
