BEGIN:VCALENDAR
VERSION:2.0
PRODID:-//TYPO3/NONSGML Calendarize//EN
BEGIN:VEVENT
UID:calendarize-tagesausflug-klasse-7a
DTSTAMP:20250908T123947Z
DTSTART;VALUE=DATE:20250903
DTEND;VALUE=DATE:20250904
SUMMARY:Tagesausflug Klasse 7a
DESCRIPTION: \n
X-ALT-DESC;FMTTYPE=text/html: \n
LOCATION:
END:VEVENT
END:VCALENDAR
