BEGIN:VCALENDAR
VERSION:2.0
PRODID:-//TYPO3/NONSGML Calendarize//EN
BEGIN:VEVENT
UID:calendarize-sommerfest-kita-/-marienkaefer-u-gluehwuermchengruppe
DTSTAMP:20250519T145138Z
DTSTART:20250524T123000Z
DTEND:20250524T150000Z
SUMMARY:Sommerfest Kita / Marienkäfer- u. Glühwürmchengruppe 
DESCRIPTION: \n
X-ALT-DESC;FMTTYPE=text/html: \n
LOCATION:
END:VEVENT
END:VCALENDAR
