BEGIN:VCALENDAR
VERSION:2.0
PRODID:-//TYPO3/NONSGML Calendarize//EN
BEGIN:VEVENT
UID:calendarize-sommerfest-kita-/-eichhoernchen-u-waldgruppe
DTSTAMP:20250519T145138Z
DTSTART:20250614T123000Z
DTEND:20250614T153000Z
SUMMARY:Sommerfest Kita / Eichhörnchen- u. Waldgruppe 
DESCRIPTION: \n
X-ALT-DESC;FMTTYPE=text/html: \n
LOCATION:
END:VEVENT
END:VCALENDAR
