BEGIN:VCALENDAR
VERSION:2.0
PRODID:-//TYPO3/NONSGML Calendarize//EN
BEGIN:VEVENT
UID:calendarize-sommerferien-in-hessen-1
DTSTAMP:20250715T123712Z
DTSTART;VALUE=DATE:20250707
DTEND;VALUE=DATE:20250816
SUMMARY:Sommerferien in Hessen
DESCRIPTION: \n
X-ALT-DESC;FMTTYPE=text/html: \n
LOCATION:
END:VEVENT
END:VCALENDAR
