BEGIN:VCALENDAR
VERSION:2.0
PRODID:-//TYPO3/NONSGML Calendarize//EN
BEGIN:VEVENT
UID:calendarize-schulfuehrung-2
DTSTAMP:20251110T151548Z
DTSTART:20250914T100000Z
DTEND:20250914T110000Z
SUMMARY:Schulführung
DESCRIPTION: \n
X-ALT-DESC;FMTTYPE=text/html: \n
LOCATION:Start: Café+Laden
END:VEVENT
END:VCALENDAR
