BEGIN:VCALENDAR
VERSION:2.0
PRODID:-//TYPO3/NONSGML Calendarize//EN
BEGIN:VEVENT
UID:calendarize-schulfuehrung-1
DTSTAMP:20250908T123947Z
DTSTART:20250914T120000Z
DTEND:20250914T130000Z
SUMMARY:Schulführung
DESCRIPTION: \n
X-ALT-DESC;FMTTYPE=text/html: \n
LOCATION:Start: Café+Laden
END:VEVENT
END:VCALENDAR
