BEGIN:VCALENDAR
VERSION:2.0
PRODID:-//TYPO3/NONSGML Calendarize//EN
BEGIN:VEVENT
UID:calendarize-schulfrei-fuer-alle-klassen-und-jahrgangsstufen
DTSTAMP:20251110T152445Z
DTSTART;VALUE=DATE:20251117
DTEND;VALUE=DATE:20251118
SUMMARY:schulfrei für alle Klassen und Jahrgangsstufen
DESCRIPTION:Als Ausgleich für Martinsbazar am Vortag.\n
X-ALT-DESC;FMTTYPE=text/html:Als Ausgleich für Martinsbazar am Vortag.\n
LOCATION:
END:VEVENT
END:VCALENDAR
