BEGIN:VCALENDAR
VERSION:2.0
PRODID:-//TYPO3/NONSGML Calendarize//EN
BEGIN:VEVENT
UID:calendarize-schule-geschlossen-brueckentag-5
DTSTAMP:20251110T151548Z
DTSTART;VALUE=DATE:20250620
DTEND;VALUE=DATE:20250621
SUMMARY:Schule geschlossen (Brückentag)
DESCRIPTION: \n
X-ALT-DESC;FMTTYPE=text/html: \n
LOCATION:
END:VEVENT
END:VCALENDAR
