BEGIN:VCALENDAR
VERSION:2.0
PRODID:-//TYPO3/NONSGML Calendarize//EN
BEGIN:VEVENT
UID:calendarize-schriftliches-abitur
DTSTAMP:20250423T133047Z
DTSTART;VALUE=DATE:20250424
DTEND;VALUE=DATE:20250515
SUMMARY:Schriftliches Abitur
DESCRIPTION: \n
X-ALT-DESC;FMTTYPE=text/html: \n
LOCATION:
END:VEVENT
END:VCALENDAR
