BEGIN:VCALENDAR
VERSION:2.0
PRODID:-//TYPO3/NONSGML Calendarize//EN
BEGIN:VEVENT
UID:calendarize-praesentation-landwirtschaftspraktikum-10a
DTSTAMP:20250715T123712Z
DTSTART;VALUE=DATE:20250825
DTEND;VALUE=DATE:20250826
SUMMARY:Präsentation Landwirtschaftspraktikum 10a
DESCRIPTION: \n
X-ALT-DESC;FMTTYPE=text/html: \n
LOCATION:
END:VEVENT
END:VCALENDAR
