BEGIN:VCALENDAR
VERSION:2.0
PRODID:-//TYPO3/NONSGML Calendarize//EN
BEGIN:VEVENT
UID:calendarize-praesentation-jahresarbeiten-klasse-8a-5
DTSTAMP:20251110T151548Z
DTSTART;VALUE=DATE:20250523
DTEND;VALUE=DATE:20250524
SUMMARY:Präsentation Jahresarbeiten Klasse 8a
DESCRIPTION:
X-ALT-DESC;FMTTYPE=text/html:
LOCATION:Musiksaal
END:VEVENT
END:VCALENDAR
