BEGIN:VCALENDAR
VERSION:2.0
PRODID:-//TYPO3/NONSGML Calendarize//EN
BEGIN:VEVENT
UID:calendarize-paedagogischer-tag-fuer-das-gesamte-kollegium
DTSTAMP:20250715T123712Z
DTSTART:20250822T060000Z
DTEND:20250822T160000Z
SUMMARY:Pädagogischer Tag für das gesamte Kollegium
DESCRIPTION:An diesem Tag entfällt der Unterricht.\n
X-ALT-DESC;FMTTYPE=text/html:An diesem Tag entfällt der Unterricht.\n
LOCATION:
END:VEVENT
END:VCALENDAR
