BEGIN:VCALENDAR
VERSION:2.0
PRODID:-//TYPO3/NONSGML Calendarize//EN
BEGIN:VEVENT
UID:calendarize-michaelifest-klassen-1-4
DTSTAMP:20250918T213132Z
DTSTART;VALUE=DATE:20250929
DTEND;VALUE=DATE:20250930
SUMMARY:Michaelifest Klassen 1 - 4
DESCRIPTION: \n
X-ALT-DESC;FMTTYPE=text/html: \n
LOCATION:
END:VEVENT
END:VCALENDAR
