BEGIN:VCALENDAR
VERSION:2.0
PRODID:-//TYPO3/NONSGML Calendarize//EN
BEGIN:VEVENT
UID:calendarize-martinsbazar
DTSTAMP:20250918T213132Z
DTSTART;VALUE=DATE:20251116
DTEND;VALUE=DATE:20251117
SUMMARY:Martinsbazar
DESCRIPTION: \n
X-ALT-DESC;FMTTYPE=text/html: \n
LOCATION:
END:VEVENT
END:VCALENDAR
