BEGIN:VCALENDAR
VERSION:2.0
PRODID:-//TYPO3/NONSGML Calendarize//EN
BEGIN:VEVENT
UID:calendarize-martinsbazar-/-tag-der-offenen-tuer
DTSTAMP:20251110T152445Z
DTSTART:20251116T100000Z
DTEND:20251116T160000Z
SUMMARY:Martinsbazar / Tag der offenen Tür
DESCRIPTION:schulpflichtiger Tag für alle Schüler:innen\n
X-ALT-DESC;FMTTYPE=text/html:schulpflichtiger Tag für alle Schüler:innen
 \n
LOCATION:Schule
END:VEVENT
END:VCALENDAR
