BEGIN:VCALENDAR
VERSION:2.0
PRODID:-//TYPO3/NONSGML Calendarize//EN
BEGIN:VEVENT
UID:calendarize-marienkaefer-laterne-basteln
DTSTAMP:20250918T213132Z
DTSTART:20251028T143000Z
DTEND:20251028T160000Z
SUMMARY:Marienkäfer: Laterne basteln
DESCRIPTION:nur für neue Kinder\n
X-ALT-DESC;FMTTYPE=text/html:nur für neue Kinder\n
LOCATION:
END:VEVENT
END:VCALENDAR
