BEGIN:VCALENDAR
VERSION:2.0
PRODID:-//TYPO3/NONSGML Calendarize//EN
BEGIN:VEVENT
UID:calendarize-letzter-schultag-vor-den-ferien-unterrichtsschluss-1050-uh
 r
DTSTAMP:20251217T123538Z
DTSTART;VALUE=DATE:20251219
DTEND;VALUE=DATE:20251220
SUMMARY:Letzter Schultag vor den Ferien\, Unterrichtsschluss 10:50 Uhr
DESCRIPTION: \n
X-ALT-DESC;FMTTYPE=text/html: \n
LOCATION:
END:VEVENT
END:VCALENDAR
