BEGIN:VCALENDAR
VERSION:2.0
PRODID:-//TYPO3/NONSGML Calendarize//EN
BEGIN:VEVENT
UID:calendarize-krippe-familiennachmittag-fuer-neue-eltern
DTSTAMP:20250918T213132Z
DTSTART:20260610T133000Z
DTEND:20260610T150000Z
SUMMARY:Krippe: Familiennachmittag für neue Eltern
DESCRIPTION: \n
X-ALT-DESC;FMTTYPE=text/html: \n
LOCATION:
END:VEVENT
END:VCALENDAR
