BEGIN:VCALENDAR
VERSION:2.0
PRODID:-//TYPO3/NONSGML Calendarize//EN
BEGIN:VEVENT
UID:calendarize-klassenuebergreifender-elternabend-zum-religionsunterricht
 -fuer-die-eltern-der-klasse-1-6
DTSTAMP:20260312T145215Z
DTSTART:20260210T190000Z
DTEND:20260210T203000Z
SUMMARY:Klassenübergreifender Elternabend zum Religionsunterricht\, für 
 die Eltern der Klasse 1-6
DESCRIPTION: \n
X-ALT-DESC;FMTTYPE=text/html: \n
LOCATION:in der Klasse 8a
END:VEVENT
END:VCALENDAR
