BEGIN:VCALENDAR
VERSION:2.0
PRODID:-//TYPO3/NONSGML Calendarize//EN
BEGIN:VEVENT
UID:calendarize-klassenspiel-klasse-8b
DTSTAMP:20250515T091609Z
DTSTART;VALUE=DATE:20250422
DTEND;VALUE=DATE:20250518
SUMMARY:Klassenspiel Klasse 8b
DESCRIPTION:
X-ALT-DESC;FMTTYPE=text/html:
LOCATION:
END:VEVENT
END:VCALENDAR
