BEGIN:VCALENDAR
VERSION:2.0
PRODID:-//TYPO3/NONSGML Calendarize//EN
BEGIN:VEVENT
UID:calendarize-klassenspiel-klasse-8b-2
DTSTAMP:20260312T145215Z
DTSTART;VALUE=DATE:20260302
DTEND;VALUE=DATE:20260327
SUMMARY:Klassenspiel Klasse 8b
DESCRIPTION: \n
X-ALT-DESC;FMTTYPE=text/html: \n
LOCATION:Franziskusbau
END:VEVENT
END:VCALENDAR
