BEGIN:VCALENDAR
VERSION:2.0
PRODID:-//TYPO3/NONSGML Calendarize//EN
BEGIN:VEVENT
UID:calendarize-klassenspiel-klasse-12-2
DTSTAMP:20260126T135715Z
DTSTART;VALUE=DATE:20260119
DTEND;VALUE=DATE:20260208
SUMMARY:Klassenspiel Klasse 12
DESCRIPTION: \n
X-ALT-DESC;FMTTYPE=text/html: \n
LOCATION:Franziskusbau
END:VEVENT
END:VCALENDAR
