BEGIN:VCALENDAR
VERSION:2.0
PRODID:-//TYPO3/NONSGML Calendarize//EN
BEGIN:VEVENT
UID:calendarize-klassenfahrt-klasse-8b
DTSTAMP:20250519T145138Z
DTSTART;VALUE=DATE:20250609
DTEND;VALUE=DATE:20250614
SUMMARY:Klassenfahrt Klasse 8b
DESCRIPTION:
X-ALT-DESC;FMTTYPE=text/html:
LOCATION:
END:VEVENT
END:VCALENDAR
