BEGIN:VCALENDAR
VERSION:2.0
PRODID:-//TYPO3/NONSGML Calendarize//EN
BEGIN:VEVENT
UID:calendarize-klassenfahrt-klasse-3
DTSTAMP:20250519T145138Z
DTSTART;VALUE=DATE:20250519
DTEND;VALUE=DATE:20250522
SUMMARY:Klassenfahrt Klasse 3
DESCRIPTION:
X-ALT-DESC;FMTTYPE=text/html:
LOCATION:
END:VEVENT
END:VCALENDAR
