BEGIN:VCALENDAR
VERSION:2.0
PRODID:-//TYPO3/NONSGML Calendarize//EN
BEGIN:VEVENT
UID:calendarize-kita-geschossen-osterferien
DTSTAMP:20250918T213132Z
DTSTART;VALUE=DATE:20260330
DTEND;VALUE=DATE:20260403
SUMMARY:Kita geschossen (Osterferien)
DESCRIPTION:
X-ALT-DESC;FMTTYPE=text/html:
LOCATION:
END:VEVENT
END:VCALENDAR
