BEGIN:VCALENDAR
VERSION:2.0
PRODID:-//TYPO3/NONSGML Calendarize//EN
BEGIN:VEVENT
UID:calendarize-kita-geschlossen-team-fortbildung-2
DTSTAMP:20250918T213132Z
DTSTART;VALUE=DATE:20251128
DTEND;VALUE=DATE:20251129
SUMMARY:Kita geschlossen (Team-Fortbildung)
DESCRIPTION:evtl. Notbetreuung\n
X-ALT-DESC;FMTTYPE=text/html:evtl. Notbetreuung\n
LOCATION:
END:VEVENT
END:VCALENDAR
