BEGIN:VCALENDAR
VERSION:2.0
PRODID:-//TYPO3/NONSGML Calendarize//EN
BEGIN:VEVENT
UID:calendarize-kita-geschlossen-sommerferien-1
DTSTAMP:20250715T123712Z
DTSTART;VALUE=DATE:20250721
DTEND;VALUE=DATE:20250809
SUMMARY:Kita geschlossen (Sommerferien)
DESCRIPTION: \n
X-ALT-DESC;FMTTYPE=text/html: \n
LOCATION:
END:VEVENT
END:VCALENDAR
