BEGIN:VCALENDAR
VERSION:2.0
PRODID:-//TYPO3/NONSGML Calendarize//EN
BEGIN:VEVENT
UID:calendarize-kita-geschlossen-herbstferien-1
DTSTAMP:20250918T213132Z
DTSTART;VALUE=DATE:20251006
DTEND;VALUE=DATE:20251011
SUMMARY:Kita geschlossen (Herbstferien)
DESCRIPTION: \n
X-ALT-DESC;FMTTYPE=text/html: \n
LOCATION:
END:VEVENT
END:VCALENDAR
