BEGIN:VCALENDAR
VERSION:2.0
PRODID:-//TYPO3/NONSGML Calendarize//EN
BEGIN:VEVENT
UID:calendarize-johannifest-1
DTSTAMP:20251110T151548Z
DTSTART:20250613T173000Z
DTEND:20250613T200000Z
SUMMARY:Johannifest
DESCRIPTION: \n \n \n
X-ALT-DESC;FMTTYPE=text/html: \n \n \n
LOCATION:Franziskusbau und Johanniwiese
END:VEVENT
END:VCALENDAR
