BEGIN:VCALENDAR
VERSION:2.0
PRODID:-//TYPO3/NONSGML Calendarize//EN
BEGIN:VEVENT
UID:calendarize-jahresarbeit-11-klasse-1
DTSTAMP:20251110T151548Z
DTSTART;VALUE=DATE:20250526
DTEND;VALUE=DATE:20250527
SUMMARY:Jahresarbeit 11. Klasse 
DESCRIPTION: \n
X-ALT-DESC;FMTTYPE=text/html: \n
LOCATION:n. N.
END:VEVENT
END:VCALENDAR
