BEGIN:VCALENDAR
VERSION:2.0
PRODID:-//TYPO3/NONSGML Calendarize//EN
BEGIN:VEVENT
UID:calendarize-infostand-am-schulhof
DTSTAMP:20250908T123947Z
DTSTART;VALUE=DATE:20250914
DTEND;VALUE=DATE:20250915
SUMMARY:Infostand am Schulhof
DESCRIPTION:im Rahmen vom Tag des offenen Denkmals in Loheland\n
X-ALT-DESC;FMTTYPE=text/html:im Rahmen vom Tag des offenen Denkmals in Loh
 eland\n
LOCATION:
END:VEVENT
END:VCALENDAR
