BEGIN:VCALENDAR
VERSION:2.0
PRODID:-//TYPO3/NONSGML Calendarize//EN
BEGIN:VEVENT
UID:calendarize-infoabend-fuer-schulbewerbungen
DTSTAMP:20251119T104234Z
DTSTART:20251127T180000Z
DTEND:20251127T200000Z
SUMMARY:Infoabend für Schulbewerbungen
DESCRIPTION:für alle Klassen\n
X-ALT-DESC;FMTTYPE=text/html:für alle Klassen\n
LOCATION:Schulhaus III\, Musiksaal
END:VEVENT
END:VCALENDAR
