BEGIN:VCALENDAR
VERSION:2.0
PRODID:-//TYPO3/NONSGML Calendarize//EN
BEGIN:VEVENT
UID:calendarize-infoabend-fuer-schulbewerbungen-1
DTSTAMP:20260114T200456Z
DTSTART:20260115T180000Z
DTEND:20260115T200000Z
SUMMARY:Infoabend für Schulbewerbungen
DESCRIPTION:für alle Klassen\n
X-ALT-DESC;FMTTYPE=text/html:für alle Klassen\n
LOCATION:Schulhaus III\, Musiksaal
END:VEVENT
END:VCALENDAR
