BEGIN:VCALENDAR
VERSION:2.0
PRODID:-//TYPO3/NONSGML Calendarize//EN
BEGIN:VEVENT
UID:calendarize-info-elternabend-krippe
DTSTAMP:20250918T213132Z
DTSTART:20260122T170000Z
DTEND:20260122T180000Z
SUMMARY:Info-Elternabend Krippe
DESCRIPTION: \n
X-ALT-DESC;FMTTYPE=text/html: \n
LOCATION:
END:VEVENT
END:VCALENDAR
