BEGIN:VCALENDAR
VERSION:2.0
PRODID:-//TYPO3/NONSGML Calendarize//EN
BEGIN:VEVENT
UID:calendarize-herbstferien-in-hessen-1
DTSTAMP:20251014T111413Z
DTSTART;VALUE=DATE:20251006
DTEND;VALUE=DATE:20251018
SUMMARY:Herbstferien in Hessen
DESCRIPTION:
X-ALT-DESC;FMTTYPE=text/html:
LOCATION:
END:VEVENT
END:VCALENDAR
