BEGIN:VCALENDAR
VERSION:2.0
PRODID:-//TYPO3/NONSGML Calendarize//EN
BEGIN:VEVENT
UID:calendarize-fuehrung-die-frauensiedlung-loheland-entdecken-8
DTSTAMP:20250715T123712Z
DTSTART:20250824T123000Z
DTEND:20250824T140000Z
SUMMARY:Führung "Die Frauensiedlung Loheland entdecken"
DESCRIPTION: \n
X-ALT-DESC;FMTTYPE=text/html: \n
LOCATION:Café+Laden
END:VEVENT
END:VCALENDAR
