BEGIN:VCALENDAR
VERSION:2.0
PRODID:-//TYPO3/NONSGML Calendarize//EN
BEGIN:VEVENT
UID:calendarize-fuehrung-die-frauensiedlung-loheland-entdecken-7
DTSTAMP:20250519T145138Z
DTSTART:20250706T123000Z
DTEND:20250706T140000Z
SUMMARY:Führung "Die Frauensiedlung Loheland entdecken"
DESCRIPTION: \n
X-ALT-DESC;FMTTYPE=text/html: \n
LOCATION:Café+Laden
END:VEVENT
END:VCALENDAR
