BEGIN:VCALENDAR
VERSION:2.0
PRODID:-//TYPO3/NONSGML Calendarize//EN
BEGIN:VEVENT
UID:calendarize-fuehrung-die-frauensiedlung-loheland-entdecken-5
DTSTAMP:20250515T091609Z
DTSTART:20250518T123000Z
DTEND:20250518T140000Z
SUMMARY:Führung "Die Frauensiedlung Loheland entdecken"
DESCRIPTION:
X-ALT-DESC;FMTTYPE=text/html:
LOCATION:Café+Laden
END:VEVENT
END:VCALENDAR
