BEGIN:VCALENDAR
VERSION:2.0
PRODID:-//TYPO3/NONSGML Calendarize//EN
BEGIN:VEVENT
UID:calendarize-fuehrung-die-frauensiedlung-loheland-entdecken-10
DTSTAMP:20250918T213132Z
DTSTART:20251026T133000Z
DTEND:20251026T150000Z
SUMMARY:Führung "Die Frauensiedlung Loheland entdecken"
DESCRIPTION: \n
X-ALT-DESC;FMTTYPE=text/html: \n
LOCATION:Café+Laden
END:VEVENT
END:VCALENDAR
